BEGIN:VCALENDAR
VERSION:2.0
PRODID:-//Violins of Hope-Wisconsin - ECPv6.15.20//NONSGML v1.0//EN
CALSCALE:GREGORIAN
METHOD:PUBLISH
X-ORIGINAL-URL:https://violinsofhopewisconsin.org
X-WR-CALDESC:Events for Violins of Hope-Wisconsin
REFRESH-INTERVAL;VALUE=DURATION:PT1H
X-Robots-Tag:noindex
X-PUBLISHED-TTL:PT1H
BEGIN:VTIMEZONE
TZID:America/Chicago
BEGIN:DAYLIGHT
TZOFFSETFROM:-0600
TZOFFSETTO:-0500
TZNAME:CDT
DTSTART:20240310T080000
END:DAYLIGHT
BEGIN:STANDARD
TZOFFSETFROM:-0500
TZOFFSETTO:-0600
TZNAME:CST
DTSTART:20241103T070000
END:STANDARD
BEGIN:DAYLIGHT
TZOFFSETFROM:-0600
TZOFFSETTO:-0500
TZNAME:CDT
DTSTART:20250309T080000
END:DAYLIGHT
BEGIN:STANDARD
TZOFFSETFROM:-0500
TZOFFSETTO:-0600
TZNAME:CST
DTSTART:20251102T070000
END:STANDARD
BEGIN:DAYLIGHT
TZOFFSETFROM:-0600
TZOFFSETTO:-0500
TZNAME:CDT
DTSTART:20260308T080000
END:DAYLIGHT
BEGIN:STANDARD
TZOFFSETFROM:-0500
TZOFFSETTO:-0600
TZNAME:CST
DTSTART:20261101T070000
END:STANDARD
END:VTIMEZONE
BEGIN:VEVENT
DTSTART;VALUE=DATE:20251003
DTEND;VALUE=DATE:20251027
DTSTAMP:20260423T072752
CREATED:20250710T210704Z
LAST-MODIFIED:20250716T185506Z
UID:10000264-1759449600-1761523199@violinsofhopewisconsin.org
SUMMARY:Fiddler on the Roof
DESCRIPTION:The award-winning classic\, Fiddler on the Roof\, returns to the Cabot Stage in an unforgettable way. This masterpiece tells the story of Tevye\, a humble milkman\, and his struggle to maintain his Jewish traditions amidst a changing world.  \nThis important tale is amplified in Skylight’s production through a powerful partnership with Violins of Hope – a collection of stringed instruments that Jewish musicians and others targeted by the Nazis owned and played before and during the Holocaust.  \nThe collection is being presented in Wisconsin by the Milwaukee Youth Symphony Orchestra (MYSO). Skylight is honored to have been granted permission to feature two of the instruments from this collection in our production. \nWe will also partner for the first time with performers and technicians from Marquette University\, onstage and backstage. \nThis production explores the universal themes of cultural identity\, tradition\, and the cost of societal displacement in a nostalgic and moving look at a world in transition at the dawn of the 20th Century. \nRecommended for ages 6 and up. \n  \nGet Tickets
URL:https://violinsofhopewisconsin.org/event/1208/
LOCATION:Skylight Music Theater\, ​​ 158 N. Broadway\, Milwaukee\, WI\, 53202\, United States
CATEGORIES:Performance
ATTACH;FMTTYPE=image/png:https://violinsofhopewisconsin.org/wp-content/uploads/2025/07/eryu0d05-1.png
END:VEVENT
END:VCALENDAR