BEGIN:VCALENDAR
VERSION:2.0
PRODID:-//Violins of Hope-Wisconsin - ECPv6.15.20//NONSGML v1.0//EN
CALSCALE:GREGORIAN
METHOD:PUBLISH
X-ORIGINAL-URL:https://violinsofhopewisconsin.org
X-WR-CALDESC:Events for Violins of Hope-Wisconsin
REFRESH-INTERVAL;VALUE=DURATION:PT1H
X-Robots-Tag:noindex
X-PUBLISHED-TTL:PT1H
BEGIN:VTIMEZONE
TZID:America/Chicago
BEGIN:DAYLIGHT
TZOFFSETFROM:-0600
TZOFFSETTO:-0500
TZNAME:CDT
DTSTART:20240310T080000
END:DAYLIGHT
BEGIN:STANDARD
TZOFFSETFROM:-0500
TZOFFSETTO:-0600
TZNAME:CST
DTSTART:20241103T070000
END:STANDARD
BEGIN:DAYLIGHT
TZOFFSETFROM:-0600
TZOFFSETTO:-0500
TZNAME:CDT
DTSTART:20250309T080000
END:DAYLIGHT
BEGIN:STANDARD
TZOFFSETFROM:-0500
TZOFFSETTO:-0600
TZNAME:CST
DTSTART:20251102T070000
END:STANDARD
BEGIN:DAYLIGHT
TZOFFSETFROM:-0600
TZOFFSETTO:-0500
TZNAME:CDT
DTSTART:20260308T080000
END:DAYLIGHT
BEGIN:STANDARD
TZOFFSETFROM:-0500
TZOFFSETTO:-0600
TZNAME:CST
DTSTART:20261101T070000
END:STANDARD
END:VTIMEZONE
BEGIN:VEVENT
DTSTART;TZID=America/Chicago:20250930T173000
DTEND;TZID=America/Chicago:20250930T173000
DTSTAMP:20260423T072752
CREATED:20250721T181617Z
LAST-MODIFIED:20250814T153026Z
UID:10000266-1759253400-1759253400@violinsofhopewisconsin.org
SUMMARY:An Aria Extravaganza
DESCRIPTION:Opera\, up close and personal. An Aria Extravaganza delivers stunning arias\, an intimate setting\, and a chance to sip\, socialize\, and soak it all in. \nPresented as part of Violins of Hope: Wisconsin\, presented by Milwaukee Youth Symphony Orchestra\, this special event offers a rare blend of world-class vocal artistry and a warm\, welcoming atmosphere. \nAddress: Provided to ticket purchasers ahead of the show dateLocation: Milwaukee\, WI 53203 \nGET TICKETS
URL:https://violinsofhopewisconsin.org/event/an-aria-extravaganza/
LOCATION:Private Residence on Milwaukee’s East Side
CATEGORIES:Performance
ATTACH;FMTTYPE=image/png:https://violinsofhopewisconsin.org/wp-content/uploads/2025/07/25-26-Aria-Ext-1200x1200-full.png
ORGANIZER;CN="The Florentine Opera":MAILTO:msass@florentineopera.org
END:VEVENT
END:VCALENDAR