BEGIN:VCALENDAR
VERSION:2.0
PRODID:-//Violins of Hope-Wisconsin - ECPv6.15.20//NONSGML v1.0//EN
CALSCALE:GREGORIAN
METHOD:PUBLISH
X-ORIGINAL-URL:https://violinsofhopewisconsin.org
X-WR-CALDESC:Events for Violins of Hope-Wisconsin
REFRESH-INTERVAL;VALUE=DURATION:PT1H
X-Robots-Tag:noindex
X-PUBLISHED-TTL:PT1H
BEGIN:VTIMEZONE
TZID:America/Chicago
BEGIN:DAYLIGHT
TZOFFSETFROM:-0600
TZOFFSETTO:-0500
TZNAME:CDT
DTSTART:20240310T080000
END:DAYLIGHT
BEGIN:STANDARD
TZOFFSETFROM:-0500
TZOFFSETTO:-0600
TZNAME:CST
DTSTART:20241103T070000
END:STANDARD
BEGIN:DAYLIGHT
TZOFFSETFROM:-0600
TZOFFSETTO:-0500
TZNAME:CDT
DTSTART:20250309T080000
END:DAYLIGHT
BEGIN:STANDARD
TZOFFSETFROM:-0500
TZOFFSETTO:-0600
TZNAME:CST
DTSTART:20251102T070000
END:STANDARD
BEGIN:DAYLIGHT
TZOFFSETFROM:-0600
TZOFFSETTO:-0500
TZNAME:CDT
DTSTART:20260308T080000
END:DAYLIGHT
BEGIN:STANDARD
TZOFFSETFROM:-0500
TZOFFSETTO:-0600
TZNAME:CST
DTSTART:20261101T070000
END:STANDARD
END:VTIMEZONE
BEGIN:VEVENT
DTSTART;TZID=America/Chicago:20251010T150000
DTEND;TZID=America/Chicago:20251010T163000
DTSTAMP:20260423T072909
CREATED:20251205T174227Z
LAST-MODIFIED:20251205T174227Z
UID:10000310-1760108400-1760113800@violinsofhopewisconsin.org
SUMMARY:Sheboygan Symphony Orchestra Presents: Violins of Hope: Panel Discussion
DESCRIPTION:Sheboygan Symphony Orchestra – Violins of Hope–Milwaukee Residency Panel Discussion\nFriday\, October 10\, 20253:00–4:00 p.m.Mead Public Library – Rocca Meeting Room710 N. Eighth St.\, Sheboygan\, WI 53081 \nJoin us for a compelling conversation at the intersection of music\, history\, and community as part of the Violins of Hope–Milwaukee Residency. This special panel brings together the artistic voices behind Moses in Nederland and leaders shaping orchestral music in Wisconsin. \nThe Rocca Room—located immediately to the left as you enter Mead Public Library—is conveniently situated just down the street from the Stefanie H. Weill Center for the Performing Arts (a three-minute walk)\, making it an accessible stop for anyone engaged with the weekend’s Sheboygan Symphony Orchestra events. \nFeatured Panelists: \n\n\nMichael Kropf – Composer of Moses in Nederland \n\n\nSabrina Tabby – Solo Violinist for Moses in Nederland \n\n\nErnesto Estigarribia Mussi – Sheboygan Symphony Orchestra Music Director \n\n\nLinda Edelstein – CEO\, Milwaukee Youth Symphony Orchestra \n\n\nExpect fresh insights\, personal stories\, and a deeper look into how music preserves memory and builds connection.
URL:https://violinsofhopewisconsin.org/event/sheboygan-symphony-orchestra-presents-violins-of-hope-panel-discussion/
LOCATION:Mead Public Library: Rocca Meeting Room\, 710 N. Eighth St\, Shebodygan\, WI\, 53081\, United States
CATEGORIES:Community Conversation,Education
ATTACH;FMTTYPE=image/png:https://violinsofhopewisconsin.org/wp-content/uploads/2025/12/sheboygan-symphony-pic.png
END:VEVENT
END:VCALENDAR