BEGIN:VCALENDAR
VERSION:2.0
PRODID:-//Violins of Hope-Wisconsin - ECPv6.15.20//NONSGML v1.0//EN
CALSCALE:GREGORIAN
METHOD:PUBLISH
X-ORIGINAL-URL:https://violinsofhopewisconsin.org
X-WR-CALDESC:Events for Violins of Hope-Wisconsin
REFRESH-INTERVAL;VALUE=DURATION:PT1H
X-Robots-Tag:noindex
X-PUBLISHED-TTL:PT1H
BEGIN:VTIMEZONE
TZID:America/Chicago
BEGIN:DAYLIGHT
TZOFFSETFROM:-0600
TZOFFSETTO:-0500
TZNAME:CDT
DTSTART:20240310T080000
END:DAYLIGHT
BEGIN:STANDARD
TZOFFSETFROM:-0500
TZOFFSETTO:-0600
TZNAME:CST
DTSTART:20241103T070000
END:STANDARD
BEGIN:DAYLIGHT
TZOFFSETFROM:-0600
TZOFFSETTO:-0500
TZNAME:CDT
DTSTART:20250309T080000
END:DAYLIGHT
BEGIN:STANDARD
TZOFFSETFROM:-0500
TZOFFSETTO:-0600
TZNAME:CST
DTSTART:20251102T070000
END:STANDARD
BEGIN:DAYLIGHT
TZOFFSETFROM:-0600
TZOFFSETTO:-0500
TZNAME:CDT
DTSTART:20260308T080000
END:DAYLIGHT
BEGIN:STANDARD
TZOFFSETFROM:-0500
TZOFFSETTO:-0600
TZNAME:CST
DTSTART:20261101T070000
END:STANDARD
END:VTIMEZONE
BEGIN:VEVENT
DTSTART;VALUE=DATE:20251017
DTEND;VALUE=DATE:20251020
DTSTAMP:20260423T071638
CREATED:20250519T162419Z
LAST-MODIFIED:20250814T162552Z
UID:10000238-1760659200-1760918399@violinsofhopewisconsin.org
SUMMARY:Giselle
DESCRIPTION:Milwaukee Ballet presents Michael Pink’s Giselle\, one of ballet’s most beloved stories. In this powerful tale of love and betrayal\, the vulnerable Giselle falls for Albrecht\, a betrothed man on the opposite side of the conflict tearing her community apart. Pink resets this tragedy into the dark period of wartime 1940s\, asking powerful questions about the need for forgiveness and the transcendence of love amongst unimaginable horrors. \nThis production is presented in connection with Violins of Hope: Wisconsin\, presented by Milwaukee Youth Symphony Orchestra. \nGET TICKETS
URL:https://violinsofhopewisconsin.org/event/giselle/
LOCATION:Marcus Performing Arts Center\, 929 N Water Street\, Milwaukee\, WI\, 53202\, United States
CATEGORIES:Performance
ATTACH;FMTTYPE=image/png:https://violinsofhopewisconsin.org/wp-content/uploads/2025/05/MB.25.26-Graphics-SQ-with-MB-400x400-1.png
END:VEVENT
END:VCALENDAR