BEGIN:VCALENDAR
VERSION:2.0
PRODID:-//Violins of Hope-Wisconsin - ECPv6.15.20//NONSGML v1.0//EN
CALSCALE:GREGORIAN
METHOD:PUBLISH
X-ORIGINAL-URL:https://violinsofhopewisconsin.org
X-WR-CALDESC:Events for Violins of Hope-Wisconsin
REFRESH-INTERVAL;VALUE=DURATION:PT1H
X-Robots-Tag:noindex
X-PUBLISHED-TTL:PT1H
BEGIN:VTIMEZONE
TZID:America/Chicago
BEGIN:DAYLIGHT
TZOFFSETFROM:-0600
TZOFFSETTO:-0500
TZNAME:CDT
DTSTART:20240310T080000
END:DAYLIGHT
BEGIN:STANDARD
TZOFFSETFROM:-0500
TZOFFSETTO:-0600
TZNAME:CST
DTSTART:20241103T070000
END:STANDARD
BEGIN:DAYLIGHT
TZOFFSETFROM:-0600
TZOFFSETTO:-0500
TZNAME:CDT
DTSTART:20250309T080000
END:DAYLIGHT
BEGIN:STANDARD
TZOFFSETFROM:-0500
TZOFFSETTO:-0600
TZNAME:CST
DTSTART:20251102T070000
END:STANDARD
BEGIN:DAYLIGHT
TZOFFSETFROM:-0600
TZOFFSETTO:-0500
TZNAME:CDT
DTSTART:20260308T080000
END:DAYLIGHT
BEGIN:STANDARD
TZOFFSETFROM:-0500
TZOFFSETTO:-0600
TZNAME:CST
DTSTART:20261101T070000
END:STANDARD
BEGIN:DAYLIGHT
TZOFFSETFROM:-0600
TZOFFSETTO:-0500
TZNAME:CDT
DTSTART:20270314T080000
END:DAYLIGHT
BEGIN:STANDARD
TZOFFSETFROM:-0500
TZOFFSETTO:-0600
TZNAME:CST
DTSTART:20271107T070000
END:STANDARD
END:VTIMEZONE
BEGIN:VEVENT
DTSTART;TZID=America/Chicago:20260125T130000
DTEND;TZID=America/Chicago:20260125T143000
DTSTAMP:20260423T071851
CREATED:20250813T213604Z
LAST-MODIFIED:20260121T170105Z
UID:10000281-1769346000-1769351400@violinsofhopewisconsin.org
SUMMARY:Honoring the Silenced: A Tribute to Jewish Musicians Lost in the Holocaust
DESCRIPTION:Honoring the Silenced: A Tribute to Jewish Musicians Lost in the Holocaust\n📅 January 25 at 1:00 PM📍 Jewish Museum Milwaukee \nJoin us on International Holocaust Remembrance Day for a poignant program honoring the Jewish musicians whose voices and artistry were silenced during the Holocaust.Through stories\, history\, and reflection\, we’ll explore the power of music to endure\, heal\, and speak across time. \nFeaturing panelists:• Samantha Abramson — Executive Director\, HERC• Molly Dubin — Chief Curator\, Jewish Museum Milwaukee• Michael Morris — Community Engagement Manager\, HERC \nThis program is included with museum admission and coincides with the final day of the Violins of Hope: Strings of Jewish Resistance and Resilience exhibition. \nDon’t miss this final opportunity to stand in remembrance\, lift up silenced voices\, and celebrate the resilience that lives on through these extraordinary instruments. \nREGISTER
URL:https://violinsofhopewisconsin.org/event/honoring-the-silenced-a-tribute-to-jewish-musicians-lost-in-the-holocaust/
LOCATION:Jewish Museum Milwaukee\, 1360 N Prospect Ave\, Milwaukee\, WI\, 53202\, United States
CATEGORIES:Program
ATTACH;FMTTYPE=image/jpeg:https://violinsofhopewisconsin.org/wp-content/uploads/2025/08/jmm-VoH-finale.jpg
END:VEVENT
BEGIN:VEVENT
DTSTART;TZID=America/Chicago:20260115T190000
DTEND;TZID=America/Chicago:20260115T190000
DTSTAMP:20260423T071851
CREATED:20250829T034431Z
LAST-MODIFIED:20251022T151250Z
UID:10000295-1768503600-1768503600@violinsofhopewisconsin.org
SUMMARY:Maxwell Street Klezmer Concert
DESCRIPTION:Maxwell Street Klezmer Concert \nDate: Thursday\, January 15\, 2026Time: 7:00 PMLocation: Milwaukee \nCost: Free | Suggested donation: $18 adults\, $5 studentsRegistration required \nDescription:Since 1983\, the Maxwell Street Klezmer Band has brought high energy and soul to its performances of Jewish songs and dances from the Old Country. Fresh from the release of their sixth album\, the band continues to enchant audiences of all ages with warmth and humor. Musical director\, composer\, and violinist Alex Koffman has also been a featured artist with Violins of Hope – Wisconsin\, presented by Milwaukee Youth Symphony Orchestra (MYSO) since the tour began in Chicago. \nIn partnership with the Nathan and Esther Pelz Holocaust Education Resource Center.
URL:https://violinsofhopewisconsin.org/event/maxwell-street-klezmer-concert/
LOCATION:Jewish Museum Milwaukee\, 1360 N Prospect Ave\, Milwaukee\, WI\, 53202\, United States
CATEGORIES:Performance
ATTACH;FMTTYPE=image/jpeg:https://violinsofhopewisconsin.org/wp-content/uploads/2025/08/Maxwell-Street-Klezmer-Band.jpg
END:VEVENT
BEGIN:VEVENT
DTSTART;VALUE=DATE:20251105
DTEND;VALUE=DATE:20260126
DTSTAMP:20260423T071851
CREATED:20250829T032141Z
LAST-MODIFIED:20251022T151633Z
UID:10000294-1762300800-1769385599@violinsofhopewisconsin.org
SUMMARY:Violins of Hope: Strings of Jewish Resistance and Resilience
DESCRIPTION:ExhibitViolins of HopeStrings of Jewish Resistance and Resilience \nRun Dates: November 5\, 2025 – January 25\, 2026Location: Jewish Museum Milwaukee\, 1360 N. Prospect Ave. \nDescription:At the heart of Violins of Hope – Wisconsin\, presented by Milwaukee Youth Symphony Orchestra (MYSO)\, is a collection of restored string instruments played by Jewish musicians before and during the Holocaust. Each violin carries a story\, bearing witness to atrocity in the face of adversity and honoring those who turned to music for solace and survival. Featuring 24 of the rescued violins\, the exhibit both educates about the lessons of the Holocaust and explores the current landscape of antisemitism while celebrating Jewish culture\, contributions\, identity\, and resilience. \nAdmission: \n\nAdults – $9.00\nSeniors (60+) – $8.00\nStudents – $6.00\nChildren (6 and under) – Free\nMuseum Members – Free\nDisabled Visitors – $6.00\nMuseums for All – $3.00\nActive Duty Military – Free\n\nHours: \n\nMonday – Thursday: 10:00 am – 5:00 pm\nFriday: 10:00 am – 3:00 pm\nSaturday: Closed\nSunday: 12:00 pm – 4:00 pm\n\nIn partnership with the Nathan and Esther Pelz Holocaust Education Resource Center.
URL:https://violinsofhopewisconsin.org/event/from-silence-to-symphony-strings-of-jewish-resistance-and-resilience/
LOCATION:Jewish Museum Milwaukee\, 1360 N Prospect Ave\, Milwaukee\, WI\, 53202\, United States
CATEGORIES:Exhibit
ATTACH;FMTTYPE=image/jpeg:https://violinsofhopewisconsin.org/wp-content/uploads/2025/08/JMM-VoH-Graphic-logo.jpg
END:VEVENT
BEGIN:VEVENT
DTSTART;TZID=America/Chicago:20251104T180000
DTEND;TZID=America/Chicago:20251104T180000
DTSTAMP:20260423T071851
CREATED:20250829T031246Z
LAST-MODIFIED:20251022T151852Z
UID:10000293-1762279200-1762279200@violinsofhopewisconsin.org
SUMMARY:Neshama: The Inextinguishable Jewish Spirit
DESCRIPTION:Exhibit Preview Opening EventNeshama: The Inextinguishable Jewish Spirit \nDate: Tuesday\, November 4\, 2025Time: 6:00 PMLocation: Jewish Museum Milwaukee \nProgram: Exhibit viewing\, talk\, musical performance\, wine\, appetizer\, and dessert reception \nCost: JMM & HERC Members – $12 | Non-Members – $18Registration required \nDescription: \nA performance from the Prometheus Trio featuring violinist Emmy Tisdel Lohr\, cellist Scott Tisdel\, and pianist Stefanie Jacob. \nResident at the Wisconsin Conservatory of Music since 2000\, the Prometheus Trio performs a blend of classical chamber music that both challenges and excites performers and audiences\, creating an unforgettable experience for all. \nPresented in partnership with the Nathan and Esther Pelz Holocaust Education Resource Center (HERC) and RUACH\, the Jewish arts and music organization serving Greater Milwaukee. \nGET TICKETS
URL:https://violinsofhopewisconsin.org/event/neshama-the-inextinguishable-jewish-spirit/
LOCATION:Jewish Museum Milwaukee\, 1360 N Prospect Ave\, Milwaukee\, WI\, 53202\, United States
CATEGORIES:Performance
ATTACH;FMTTYPE=image/jpeg:https://violinsofhopewisconsin.org/wp-content/uploads/2025/08/Neshama-Logo.jpg
END:VEVENT
END:VCALENDAR