BEGIN:VCALENDAR
VERSION:2.0
PRODID:-//Violins of Hope-Wisconsin - ECPv6.15.20//NONSGML v1.0//EN
CALSCALE:GREGORIAN
METHOD:PUBLISH
X-ORIGINAL-URL:https://violinsofhopewisconsin.org
X-WR-CALDESC:Events for Violins of Hope-Wisconsin
REFRESH-INTERVAL;VALUE=DURATION:PT1H
X-Robots-Tag:noindex
X-PUBLISHED-TTL:PT1H
BEGIN:VTIMEZONE
TZID:America/Chicago
BEGIN:DAYLIGHT
TZOFFSETFROM:-0600
TZOFFSETTO:-0500
TZNAME:CDT
DTSTART:20240310T080000
END:DAYLIGHT
BEGIN:STANDARD
TZOFFSETFROM:-0500
TZOFFSETTO:-0600
TZNAME:CST
DTSTART:20241103T070000
END:STANDARD
BEGIN:DAYLIGHT
TZOFFSETFROM:-0600
TZOFFSETTO:-0500
TZNAME:CDT
DTSTART:20250309T080000
END:DAYLIGHT
BEGIN:STANDARD
TZOFFSETFROM:-0500
TZOFFSETTO:-0600
TZNAME:CST
DTSTART:20251102T070000
END:STANDARD
BEGIN:DAYLIGHT
TZOFFSETFROM:-0600
TZOFFSETTO:-0500
TZNAME:CDT
DTSTART:20260308T080000
END:DAYLIGHT
BEGIN:STANDARD
TZOFFSETFROM:-0500
TZOFFSETTO:-0600
TZNAME:CST
DTSTART:20261101T070000
END:STANDARD
END:VTIMEZONE
BEGIN:VEVENT
DTSTART;VALUE=DATE:20251122
DTEND;VALUE=DATE:20251124
DTSTAMP:20260423T072551
CREATED:20250806T191214Z
LAST-MODIFIED:20251002T150117Z
UID:10000272-1763769600-1763942399@violinsofhopewisconsin.org
SUMMARY:Echoes of Hope
DESCRIPTION:The Importance of Remembering…A necessity of hope and light in the darkest of times\, this dance concert features stories of courage and resistance as we remember and reflect upon memories through movement. We honor the work of Jewish artists and musicians in collaboration with Violins of Hope: Wisconsin\, presented by Milwaukee Youth Symphony Orchestra. \nDanceworks Performance MKE presents world premiere works that embody stories of humanity through the lens of the Holocaust. This performance features artists from Danceworks Professional\, Intergenerational\, Youth\, and Apprentice companies\, and also welcomes the Wisconsin International Orchestra and musician Allen Russell to the stage. \nEach performance will be followed by a 20-minute talkback. \nPerformance Dates & Times: \n\nSaturday\, November 22: 4:00 PM & 7:30 PM\nSunday\, November 23: 2:30 PM & 6:00 PM\n\nGET TICKETS
URL:https://violinsofhopewisconsin.org/event/echoes-of-hope/
LOCATION:Calvary Presbyterian Church\, 628 N 10th St\, Milwaukee\, 53233\, United States
CATEGORIES:Performance
ATTACH;FMTTYPE=image/png:https://violinsofhopewisconsin.org/wp-content/uploads/2025/08/Copy-of-EVENT-THUMBNAIL-CROP1.png
END:VEVENT
END:VCALENDAR