BEGIN:VCALENDAR
VERSION:2.0
PRODID:-//Violins of Hope-Wisconsin - ECPv6.15.20//NONSGML v1.0//EN
CALSCALE:GREGORIAN
METHOD:PUBLISH
X-WR-CALNAME:Violins of Hope-Wisconsin
X-ORIGINAL-URL:https://violinsofhopewisconsin.org
X-WR-CALDESC:Events for Violins of Hope-Wisconsin
REFRESH-INTERVAL;VALUE=DURATION:PT1H
X-Robots-Tag:noindex
X-PUBLISHED-TTL:PT1H
BEGIN:VTIMEZONE
TZID:America/Chicago
BEGIN:DAYLIGHT
TZOFFSETFROM:-0600
TZOFFSETTO:-0500
TZNAME:CDT
DTSTART:20240310T080000
END:DAYLIGHT
BEGIN:STANDARD
TZOFFSETFROM:-0500
TZOFFSETTO:-0600
TZNAME:CST
DTSTART:20241103T070000
END:STANDARD
BEGIN:DAYLIGHT
TZOFFSETFROM:-0600
TZOFFSETTO:-0500
TZNAME:CDT
DTSTART:20250309T080000
END:DAYLIGHT
BEGIN:STANDARD
TZOFFSETFROM:-0500
TZOFFSETTO:-0600
TZNAME:CST
DTSTART:20251102T070000
END:STANDARD
BEGIN:DAYLIGHT
TZOFFSETFROM:-0600
TZOFFSETTO:-0500
TZNAME:CDT
DTSTART:20260308T080000
END:DAYLIGHT
BEGIN:STANDARD
TZOFFSETFROM:-0500
TZOFFSETTO:-0600
TZNAME:CST
DTSTART:20261101T070000
END:STANDARD
BEGIN:DAYLIGHT
TZOFFSETFROM:-0600
TZOFFSETTO:-0500
TZNAME:CDT
DTSTART:20270314T080000
END:DAYLIGHT
BEGIN:STANDARD
TZOFFSETFROM:-0500
TZOFFSETTO:-0600
TZNAME:CST
DTSTART:20271107T070000
END:STANDARD
END:VTIMEZONE
BEGIN:VEVENT
DTSTART;TZID=America/Chicago:20260111T193000
DTEND;TZID=America/Chicago:20260111T193000
DTSTAMP:20260423T072259
CREATED:20250813T221349Z
LAST-MODIFIED:20251229T171757Z
UID:10000319-1768159800-1768159800@violinsofhopewisconsin.org
SUMMARY:Milwaukee Musaik: Quartet for the End of Time
DESCRIPTION:Milwaukee Musaik\, a dynamic collective of virtuosic musicians\, creates engaging and innovative concert experiences. Renowned for their versatility in programming and collaboration\, they bring fresh perspectives to classical performance. \nAs part of Violins of Hope: Wisconsin\, presented by Milwaukee Youth Symphony Orchestra\, Milwaukee Musaik presents a powerful tribute to the human spirit. Featuring instruments that were played during the Holocaust by Jewish musicians and others targeted by the Nazis\, this poignant performance honors history through music — ensuring the voices of the past are remembered while inspiring hope for the future. \nTwo performances: 3:30 PM & 7:30 PM. \nGET TICKETS
URL:https://violinsofhopewisconsin.org/event/1518/2026-01-11/2/
LOCATION:Sharon Lynne Wilson Center for the Arts\, 3270 Mitchell Park Rd\, Brookfield\, WI\, 53045\, United States
CATEGORIES:Performance
ATTACH;FMTTYPE=image/png:https://violinsofhopewisconsin.org/wp-content/uploads/2025/07/Milwaukee-Musaik-VOH-thumbnail-e1751480871399.png
END:VEVENT
BEGIN:VEVENT
DTSTART;TZID=America/Chicago:20260111T153000
DTEND;TZID=America/Chicago:20260111T153000
DTSTAMP:20260423T072259
CREATED:20250813T221349Z
LAST-MODIFIED:20251229T171757Z
UID:10000318-1768145400-1768145400@violinsofhopewisconsin.org
SUMMARY:Milwaukee Musaik: Quartet for the End of Time
DESCRIPTION:Milwaukee Musaik\, a dynamic collective of virtuosic musicians\, creates engaging and innovative concert experiences. Renowned for their versatility in programming and collaboration\, they bring fresh perspectives to classical performance. \nAs part of Violins of Hope: Wisconsin\, presented by Milwaukee Youth Symphony Orchestra\, Milwaukee Musaik presents a powerful tribute to the human spirit. Featuring instruments that were played during the Holocaust by Jewish musicians and others targeted by the Nazis\, this poignant performance honors history through music — ensuring the voices of the past are remembered while inspiring hope for the future. \nTwo performances: 3:30 PM & 7:30 PM. \nGET TICKETS
URL:https://violinsofhopewisconsin.org/event/1518/2026-01-11/1/
LOCATION:Sharon Lynne Wilson Center for the Arts\, 3270 Mitchell Park Rd\, Brookfield\, WI\, 53045\, United States
CATEGORIES:Performance
ATTACH;FMTTYPE=image/png:https://violinsofhopewisconsin.org/wp-content/uploads/2025/07/Milwaukee-Musaik-VOH-thumbnail-e1751480871399.png
END:VEVENT
BEGIN:VEVENT
DTSTART;TZID=America/Chicago:20251118T190000
DTEND;TZID=America/Chicago:20251118T190000
DTSTAMP:20260423T072259
CREATED:20250702T182807Z
LAST-MODIFIED:20250922T140354Z
UID:10000252-1763492400-1763492400@violinsofhopewisconsin.org
SUMMARY:Resilience in Silence: Echoes of Memory and Survival
DESCRIPTION:Our program confronts history not with bombast\, but with intimacy — with music written by those who bore witness\, who suffered\, who fled\, or who refused to be silenced. \nAs part of Violins of Hope: Wisconsin\, presented by Milwaukee Youth Symphony Orchestra\, we do not offer a narrative of resolution. Instead\, we invite you into a space of remembrance\, witness\, and listening. \nTickets: $35 advance purchase | $40 on concert day | $10 students with ID \nGET TICKETS
URL:https://violinsofhopewisconsin.org/event/resilience-in-silence-echoes-of-memory-and-survival/
LOCATION:Wauwatosa Presbyterian Church\, 2366 N 80th St\, Milwaukee\, WI\, 53213\, United States
CATEGORIES:Education,Exhibit,Performance
ATTACH;FMTTYPE=image/png:https://violinsofhopewisconsin.org/wp-content/uploads/2025/07/Milwaukee-Musaik-VOH-thumbnail-e1751480871399.png
END:VEVENT
END:VCALENDAR