BEGIN:VCALENDAR
VERSION:2.0
PRODID:-//Violins of Hope-Wisconsin - ECPv6.15.20//NONSGML v1.0//EN
CALSCALE:GREGORIAN
METHOD:PUBLISH
X-ORIGINAL-URL:https://violinsofhopewisconsin.org
X-WR-CALDESC:Events for Violins of Hope-Wisconsin
REFRESH-INTERVAL;VALUE=DURATION:PT1H
X-Robots-Tag:noindex
X-PUBLISHED-TTL:PT1H
BEGIN:VTIMEZONE
TZID:America/Chicago
BEGIN:DAYLIGHT
TZOFFSETFROM:-0600
TZOFFSETTO:-0500
TZNAME:CDT
DTSTART:20240310T080000
END:DAYLIGHT
BEGIN:STANDARD
TZOFFSETFROM:-0500
TZOFFSETTO:-0600
TZNAME:CST
DTSTART:20241103T070000
END:STANDARD
BEGIN:DAYLIGHT
TZOFFSETFROM:-0600
TZOFFSETTO:-0500
TZNAME:CDT
DTSTART:20250309T080000
END:DAYLIGHT
BEGIN:STANDARD
TZOFFSETFROM:-0500
TZOFFSETTO:-0600
TZNAME:CST
DTSTART:20251102T070000
END:STANDARD
BEGIN:DAYLIGHT
TZOFFSETFROM:-0600
TZOFFSETTO:-0500
TZNAME:CDT
DTSTART:20260308T080000
END:DAYLIGHT
BEGIN:STANDARD
TZOFFSETFROM:-0500
TZOFFSETTO:-0600
TZNAME:CST
DTSTART:20261101T070000
END:STANDARD
END:VTIMEZONE
BEGIN:VEVENT
DTSTART;VALUE=DATE:20251107
DTEND;VALUE=DATE:20251117
DTSTAMP:20260423T084141
CREATED:20250516T164035Z
LAST-MODIFIED:20250729T152625Z
UID:10000235-1762473600-1763337599@violinsofhopewisconsin.org
SUMMARY:The Rose of Treason
DESCRIPTION:The Rose of Treason\nIn 1943\, a group of university students in Germany started a resistance group aimed at bringing down Hitler and the Nazi regime. Their story is one of breathtaking courage\, selflessness\, and utter faith in what is right.   \n\nIn between the November 9th performances\, First Stage\, The Nathan and Esther Pelz Holocaust Education Resource Center\, and Jewish Museum Milwaukee will hold a panel discussion that explores themes within “Rose of Treason” including moral courage\, youth resistance\, and standing up to antisemitism. This panel discussion will be in commemoration of Kristallnacht\, a turning point in the Holocaust when the Nazis and ordinary citizens unleashed a coordinated nationwide attack on Jews in Nazi Germany.  \n\n\nThe panel will be held in Goodman MainStage Hall at the Milwaukee Youth Art Center from 2:45-3:15 PM. Ticket holders to both November 9th performances are welcome to attend. \n\nNov 7 – Nov 16\, 2025   \nBest for ages 14-18 and theatergoers of all ages.   \nSchool Performances: \n\n11/7/25 at 10:00 AM\n11/12/25 at 10:00 AM\n11/13/25 at 10:00 AM\n11/14/25 at 10:00 AM\n\n\nPublic Performances: \n\n11/7/25 at 7:00 PM\, 11/8/25 at 3:30 and 7:00 PM\n11/9/25 at 1:00 and 4:00 PM\n11/14/25 at 7:00 PM\n11/15/25 at 3:30 and 7:00 PM\n11/16/25 at 1:00 and 4:00 PM\n\n\nPre-Show Workshop: \n\n11/8 and 11/15 before the 3:30 PM shows\n\nGET TICKETS
URL:https://violinsofhopewisconsin.org/event/the-rose-of-treason/
LOCATION:Milwaukee Youth Arts Center\, 325 W. Walnut Street\, Milwaukee\, WI\, 53212\, United States
CATEGORIES:Performance,Workshop
ATTACH;FMTTYPE=image/jpeg:https://violinsofhopewisconsin.org/wp-content/uploads/2025/05/RoseofTreason-Square.jpg
END:VEVENT
END:VCALENDAR